BEGIN:VCALENDAR
VERSION:2.0
PRODID:-//CERN//INDICO//EN
BEGIN:VEVENT
SUMMARY:UbuCon Korea 2026
DTSTART:20260829T000000Z
DTEND:20260829T090000Z
DTSTAMP:20260425T184000Z
UID:indico-event-153@events.canonical.com
CONTACT:contact@ubuntu-kr.org
DESCRIPTION:Speakers: Junsang Moon\, Youngbin Han (Ubuntu Korea Community)
 \, Yeonguk Choo (Ubuntu Korea Community)\, Sangkon Han (Ubuntu Korea Commu
 nity)\, Hoehyeong Jung\, Gyuseok Jung\n\nUbuCon Korea 는 한국 내 우
 분투 기여자 및 사용자를 대상으로 매년 열리는 행사로\
 , 우분투 관련 사례와 노하우를 공유 하는 모임의 장 입
 니다.\n본 웹사이트는 발표 제안서 제출/검토 및 일정 공
 유 용도로 활용됩니다\, 그 외 공지사항 및 기타 정보는
  https://2026.ubuntu-kr.org 를 확인 하시기 바랍니다.\n\nhttps:
 //events.canonical.com/event/153/
IMAGE;VALUE=URI:https://events.canonical.com/event/153/logo-1109824501.png
LOCATION:Microsoft Korea
URL:https://events.canonical.com/event/153/
END:VEVENT
END:VCALENDAR
